BEGIN:VCALENDAR
VERSION:2.0
PRODID:-//NetworldEurope ETP - ECPv6.15.20//NONSGML v1.0//EN
CALSCALE:GREGORIAN
METHOD:PUBLISH
X-WR-CALNAME:NetworldEurope ETP
X-ORIGINAL-URL:https://www.networldeurope.eu
X-WR-CALDESC:Events for NetworldEurope ETP
REFRESH-INTERVAL;VALUE=DURATION:PT1H
X-Robots-Tag:noindex
X-PUBLISHED-TTL:PT1H
BEGIN:VTIMEZONE
TZID:Europe/Berlin
BEGIN:DAYLIGHT
TZOFFSETFROM:+0100
TZOFFSETTO:+0200
TZNAME:CEST
DTSTART:20190331T010000
END:DAYLIGHT
BEGIN:STANDARD
TZOFFSETFROM:+0200
TZOFFSETTO:+0100
TZNAME:CET
DTSTART:20191027T010000
END:STANDARD
BEGIN:DAYLIGHT
TZOFFSETFROM:+0100
TZOFFSETTO:+0200
TZNAME:CEST
DTSTART:20200329T010000
END:DAYLIGHT
BEGIN:STANDARD
TZOFFSETFROM:+0200
TZOFFSETTO:+0100
TZNAME:CET
DTSTART:20201025T010000
END:STANDARD
BEGIN:DAYLIGHT
TZOFFSETFROM:+0100
TZOFFSETTO:+0200
TZNAME:CEST
DTSTART:20210328T010000
END:DAYLIGHT
BEGIN:STANDARD
TZOFFSETFROM:+0200
TZOFFSETTO:+0100
TZNAME:CET
DTSTART:20211031T010000
END:STANDARD
END:VTIMEZONE
BEGIN:VEVENT
DTSTART;TZID=Europe/Berlin:20200317T080000
DTEND;TZID=Europe/Berlin:20200320T170000
DTSTAMP:20260421T090606
CREATED:20200302T093045Z
LAST-MODIFIED:20200302T093641Z
UID:3211-1584432000-1584723600@www.networldeurope.eu
SUMMARY:6G Wireless Summit\, 17-20 March 2020 in Levi\, Finland
DESCRIPTION:Welcome to  the leading conference defining the global 6G research vision – 6G Wireless Summit – which will be organized in Levi\, Finland for the second time in March 17-20\, 2020 (www.6gsummit.com). \n6G Wireless Summit 2020 will feature keynotes\, invited talks\, tutorials\, technical sessions\, special sessions\, posters\, panels and demonstrations by leading academics and stakeholders in industry\, operators and the public sector. The call for papers is open until December 20\, 2019. \nThe global event will continue the success of the first 6G Wireless Summit held in March 2019. The event organized by the 6G Flagship research program launched the process of identifying the key drivers\, research requirements\, challenges and essential research questions towards 6G. Views and ideas that experts shared at the first 6G Wireless Summit were published in world’s first 6G White Paper in September 2019 with a focus on ubiquitous wireless intelligence. A new release of the 6G White Paper will be published as a major outcome of the 6G Wireless Summit 2020. The open call for contributors to notify their interest in joining the writing the white paper is open until December 13.
URL:https://www.networldeurope.eu/event/3211/
LOCATION:Levi Summit Conference and Exhibition Centre\, Hissitie 8\, Sirkka\, 99130\, Finland
END:VEVENT
END:VCALENDAR