BEGIN:VCALENDAR
VERSION:2.0
PRODID:-//NetworldEurope ETP - ECPv6.15.20//NONSGML v1.0//EN
CALSCALE:GREGORIAN
METHOD:PUBLISH
X-WR-CALNAME:NetworldEurope ETP
X-ORIGINAL-URL:https://www.networldeurope.eu
X-WR-CALDESC:Events for NetworldEurope ETP
REFRESH-INTERVAL;VALUE=DURATION:PT1H
X-Robots-Tag:noindex
X-PUBLISHED-TTL:PT1H
BEGIN:VTIMEZONE
TZID:Europe/Berlin
BEGIN:DAYLIGHT
TZOFFSETFROM:+0100
TZOFFSETTO:+0200
TZNAME:CEST
DTSTART:20240331T010000
END:DAYLIGHT
BEGIN:STANDARD
TZOFFSETFROM:+0200
TZOFFSETTO:+0100
TZNAME:CET
DTSTART:20241027T010000
END:STANDARD
BEGIN:DAYLIGHT
TZOFFSETFROM:+0100
TZOFFSETTO:+0200
TZNAME:CEST
DTSTART:20250330T010000
END:DAYLIGHT
BEGIN:STANDARD
TZOFFSETFROM:+0200
TZOFFSETTO:+0100
TZNAME:CET
DTSTART:20251026T010000
END:STANDARD
BEGIN:DAYLIGHT
TZOFFSETFROM:+0100
TZOFFSETTO:+0200
TZNAME:CEST
DTSTART:20260329T010000
END:DAYLIGHT
BEGIN:STANDARD
TZOFFSETFROM:+0200
TZOFFSETTO:+0100
TZNAME:CET
DTSTART:20261025T010000
END:STANDARD
END:VTIMEZONE
BEGIN:VEVENT
DTSTART;TZID=Europe/Berlin:20251125T090000
DTEND;TZID=Europe/Berlin:20251126T170000
DTSTAMP:20260421T045511
CREATED:20251219T142029Z
LAST-MODIFIED:20251219T142038Z
UID:5487-1764061200-1764176400@www.networldeurope.eu
SUMMARY:Fifth Visions for Future Communications Summit\, 25-26 November 2025\, Lisbon
DESCRIPTION:Vision of Future Communications Summit is a top-quality research workshop\, with the support of IEEE\, oriented to identify key research areas in information and communication technologies in the mid-future of 7 to 10 years. The VFCS is an exercise we perform as the launching effort for updating the Strategic Research and Innovation Agenda (SRIA) for the EU\, an effort we have continuously made in the last years. This upcoming SRIA will have a peculiar significance. It will be the SRIA associated with the launching of FP10\, the new framework program. As such\, this will have a particularly large long-term impact\, in helping to define Europe long term priorities for the whole framework program. \nIt will follow from the previous events held in 2017\, 2019\, 2021 and 2023 considering that by 2030 6G will be reaching the market. Given the expected innovation cycle times\, it is now appropriate that we start discussions on Challenges for 2030 and Beyond. \nMore information and registration here
URL:https://www.networldeurope.eu/event/fifth-visions-for-future-communications-summit-25-26-november-2025-lisbon/
CATEGORIES:sector events
END:VEVENT
BEGIN:VEVENT
DTSTART;TZID=Europe/Berlin:20251209T090000
DTEND;TZID=Europe/Berlin:20251209T170000
DTSTAMP:20260421T045511
CREATED:20251219T142245Z
LAST-MODIFIED:20251219T142245Z
UID:5489-1765270800-1765299600@www.networldeurope.eu
SUMMARY:Navigating Investor Negotiations and Due Diligence for Startups and SMEs\, 9 December 2025
DESCRIPTION:Join us and demystify the investment process when preparing to engage with investors!\n  \nTo further propel innovators’ entrepreneurial journey in Europe’s thriving innovation ecosystem\, the European Commission Horizon Results Platform (HRP) is co-organizing an interview with one of its partners\, Business Angels Europe (BAE): \n“Navigating Investor Negotiations and Due Diligence for Startups and SMEs” \nSigning a deal with investors is just the start of a long partnership. You only get one chance to finalise the agreement – so it is worth making sure everything is right from the start of your negotiations. \nThe Horizon Results Platform (HRP) is the dynamic hub at the forefront of fostering innovation across the EU\, showcasing innovations from Horizon Europe\, Horizon 2020\, FP7\, European Innovation Council (EIC)\, European Institute of Innovation & Technology (EIT)\, and other programmes. HRP also includes policy-oriented results. \nOur dedicated team\, in partnership with the EIC\, EIT\, Enterprise Europe Network (EEN)\, European business angel networks and others\, holds go-to-market initiatives – pitch events\, open innovation challenges\, matchmaking meetings\, investor readiness webinars\, and more; HRP also offers a wide range of business services\, to advance your go-to-market journey. \nJoin the Navigating Negotiations session and ensure everything is perfect from the start: this webinar is designed to help demystify the investment process for you: negotiations\, term sheets and due diligence. \nDate: 09 December 2025 \nTime: 10:00 – 12:00 CEST \nRegistration (required): https://ecconf.webex.com/weblink/register/rc8ee3cf173f74da9d6318a23e1f9641b \nQuestions: Horizon Results Platform team: EC-HORIZON-RESULTS-PLATFORM@ec.europa.eu \nWho is this webinar for? \nFounders\, startups and SMEs in the midst of\, or looking to succeed negotiations with an investor \nWhat will you learn more about? \n\nInvestment process — from first contact to closing signature\nNegotiating terms: why collecting multiple term sheets matters\nKey terms: valuation\, liquidation preferences\, reserved matters\, drag/tag-along rights\nDue diligence: what investors look for and how to prepare effectively\nDue diligence from the investor perspective\nClosing the deal\, because it isn’t over until it’s over!\n\nWhether you’re setting up your first spin-out or planning a future raise\, this session aims to give you clarity\, confidence\, and a more strategic view of the investor landscape. \nExpert: Jan Debets \n\nSenior Advisor at BAE – Business Angels Europe\nWorked in venture capital at the Silicon Valley-based 500 Global\, and Capital Mills in the Netherlands\nManager at META Group\nMBA from HEC Paris\nBoard member – HEC Alumni Angels Club\n\n“Investor Negotiations: it isn’t over until it’s over!”
URL:https://www.networldeurope.eu/event/navigating-investor-negotiations-and-due-diligence-for-startups-and-smes-9-december-2025/
CATEGORIES:sector events
END:VEVENT
END:VCALENDAR