BEGIN:VCALENDAR
VERSION:2.0
PRODID:-//NetworldEurope ETP - ECPv6.15.20//NONSGML v1.0//EN
CALSCALE:GREGORIAN
METHOD:PUBLISH
X-ORIGINAL-URL:https://www.networldeurope.eu
X-WR-CALDESC:Events for NetworldEurope ETP
REFRESH-INTERVAL;VALUE=DURATION:PT1H
X-Robots-Tag:noindex
X-PUBLISHED-TTL:PT1H
BEGIN:VTIMEZONE
TZID:Europe/Berlin
BEGIN:DAYLIGHT
TZOFFSETFROM:+0100
TZOFFSETTO:+0200
TZNAME:CEST
DTSTART:20230326T010000
END:DAYLIGHT
BEGIN:STANDARD
TZOFFSETFROM:+0200
TZOFFSETTO:+0100
TZNAME:CET
DTSTART:20231029T010000
END:STANDARD
BEGIN:DAYLIGHT
TZOFFSETFROM:+0100
TZOFFSETTO:+0200
TZNAME:CEST
DTSTART:20240331T010000
END:DAYLIGHT
BEGIN:STANDARD
TZOFFSETFROM:+0200
TZOFFSETTO:+0100
TZNAME:CET
DTSTART:20241027T010000
END:STANDARD
BEGIN:DAYLIGHT
TZOFFSETFROM:+0100
TZOFFSETTO:+0200
TZNAME:CEST
DTSTART:20250330T010000
END:DAYLIGHT
BEGIN:STANDARD
TZOFFSETFROM:+0200
TZOFFSETTO:+0100
TZNAME:CET
DTSTART:20251026T010000
END:STANDARD
END:VTIMEZONE
BEGIN:VEVENT
DTSTART;TZID=Europe/Berlin:20240123T090000
DTEND;TZID=Europe/Berlin:20240123T173000
DTSTAMP:20260422T093741
CREATED:20231220T094410Z
LAST-MODIFIED:20231220T094410Z
UID:4839-1706000400-1706031000@www.networldeurope.eu
SUMMARY:6Gsec Common Path and Cardinal Points “6Gsec CP²”\, 23 January 2024\, Paris
DESCRIPTION:Save the Date! \n6Gsec Common Path and Cardinal Points “6Gsec CP²”\nDate : January 23\, 2024\, 9:00 AM – 5:30 PM\nLocation : Campus Cyber\, Paris 5-7 rue Bellini\, 92800 La Défense\, France\nHosted by PTCC and organised by SNS-OPS\, ECSO\, NetworldEurope \n“6Gsec CP²” brings together the Cyber and 6G communities to discuss: \n\nEuropean policies\, threat landscapes and known challenges\nCurrent Research and innovation agendas\nTechnical focus and collaboration perspectives\n\nThis event is a unique opportunity for researchers\, practitioners\, and policymakers from both the Cyber and 6G communities to come together and share their insights on how to ensure the security of 6G networks and services. \nThe event will feature several keynote speakers\, as well as panel discussions and technical sessions: \n\nThe future of cybersecurity in the 6G era\nOpportunities to build mutual understanding\,\nResearch roadmap convergence and collaborations between the Cyber and 6G communities\n\nWe encourage you to save the date and join us for this important event. The detailed programme will be available soon. \nPlease register\, using the link below. \nAccess the Event \nWe look forward to seeing you there!
URL:https://www.networldeurope.eu/event/6gsec-common-path-and-cardinal-points-6gsec-cp%c2%b2-23-january-2024-paris/
CATEGORIES:sector events
END:VEVENT
END:VCALENDAR