BEGIN:VCALENDAR
VERSION:2.0
PRODID:-//NetworldEurope ETP - ECPv6.15.20//NONSGML v1.0//EN
CALSCALE:GREGORIAN
METHOD:PUBLISH
X-WR-CALNAME:NetworldEurope ETP
X-ORIGINAL-URL:https://www.networldeurope.eu
X-WR-CALDESC:Events for NetworldEurope ETP
REFRESH-INTERVAL;VALUE=DURATION:PT1H
X-Robots-Tag:noindex
X-PUBLISHED-TTL:PT1H
BEGIN:VTIMEZONE
TZID:Europe/Berlin
BEGIN:DAYLIGHT
TZOFFSETFROM:+0100
TZOFFSETTO:+0200
TZNAME:CEST
DTSTART:20240331T010000
END:DAYLIGHT
BEGIN:STANDARD
TZOFFSETFROM:+0200
TZOFFSETTO:+0100
TZNAME:CET
DTSTART:20241027T010000
END:STANDARD
BEGIN:DAYLIGHT
TZOFFSETFROM:+0100
TZOFFSETTO:+0200
TZNAME:CEST
DTSTART:20250330T010000
END:DAYLIGHT
BEGIN:STANDARD
TZOFFSETFROM:+0200
TZOFFSETTO:+0100
TZNAME:CET
DTSTART:20251026T010000
END:STANDARD
BEGIN:DAYLIGHT
TZOFFSETFROM:+0100
TZOFFSETTO:+0200
TZNAME:CEST
DTSTART:20260329T010000
END:DAYLIGHT
BEGIN:STANDARD
TZOFFSETFROM:+0200
TZOFFSETTO:+0100
TZNAME:CET
DTSTART:20261025T010000
END:STANDARD
END:VTIMEZONE
BEGIN:VEVENT
DTSTART;TZID=Europe/Berlin:20250819T080000
DTEND;TZID=Europe/Berlin:20250819T170000
DTSTAMP:20260420T201417
CREATED:20251219T141434Z
LAST-MODIFIED:20251219T141434Z
UID:5482-1755590400-1755622800@www.networldeurope.eu
SUMMARY:NetworldEurope WG Enabling Technologies Endorses Special Panel on 6G\, AI-Native Design at Future Communication Networks\, 19 August 2025
DESCRIPTION:NetworldEurope\, WG Enabling Technologies for Future Vertical Ecosystem Transformation is proud to endorse a special panel at the upcoming Future Communication Networks 2025 conference\, titled 6G\, AI-Native Design\, and Beyond\, on August 19\, 2025 in Belgrade\, Serbia. The panel is co-chaired by the WG’s Vice Chair Dr Xueli An. It will delve into the convergence of mobile networks and AI\, addressing the urgent need for cross-industry collaboration. \nParticipants from various sectors—including operators\, vendors\, and industrial IoT specialists\, academics and researchers—will discuss the architectural enhancements required for integrating vertical industries into mobile networks. This initiative aims to foster a collaborative environment where experts can share insights and develop solutions tailored to the evolving demands of the telecommunications landscape.
URL:https://www.networldeurope.eu/event/networldeurope-wg-enabling-technologies-endorses-special-panel-on-6g-ai-native-design-at-future-communication-networks-19-august-2025/
CATEGORIES:sector events
END:VEVENT
END:VCALENDAR