BEGIN:VCALENDAR
VERSION:2.0
PRODID:-//NetworldEurope ETP - ECPv6.15.20//NONSGML v1.0//EN
CALSCALE:GREGORIAN
METHOD:PUBLISH
X-ORIGINAL-URL:https://www.networldeurope.eu
X-WR-CALDESC:Events for NetworldEurope ETP
REFRESH-INTERVAL;VALUE=DURATION:PT1H
X-Robots-Tag:noindex
X-PUBLISHED-TTL:PT1H
BEGIN:VTIMEZONE
TZID:Europe/Berlin
BEGIN:DAYLIGHT
TZOFFSETFROM:+0100
TZOFFSETTO:+0200
TZNAME:CEST
DTSTART:20240331T010000
END:DAYLIGHT
BEGIN:STANDARD
TZOFFSETFROM:+0200
TZOFFSETTO:+0100
TZNAME:CET
DTSTART:20241027T010000
END:STANDARD
BEGIN:DAYLIGHT
TZOFFSETFROM:+0100
TZOFFSETTO:+0200
TZNAME:CEST
DTSTART:20250330T010000
END:DAYLIGHT
BEGIN:STANDARD
TZOFFSETFROM:+0200
TZOFFSETTO:+0100
TZNAME:CET
DTSTART:20251026T010000
END:STANDARD
BEGIN:DAYLIGHT
TZOFFSETFROM:+0100
TZOFFSETTO:+0200
TZNAME:CEST
DTSTART:20260329T010000
END:DAYLIGHT
BEGIN:STANDARD
TZOFFSETFROM:+0200
TZOFFSETTO:+0100
TZNAME:CET
DTSTART:20261025T010000
END:STANDARD
END:VTIMEZONE
BEGIN:VEVENT
DTSTART;TZID=Europe/Berlin:20250603T090000
DTEND;TZID=Europe/Berlin:20250606T170000
DTSTAMP:20260420T154910
CREATED:20251219T135930Z
LAST-MODIFIED:20251219T140737Z
UID:5477-1748941200-1749229200@www.networldeurope.eu
SUMMARY:SMEs in the Spotlight at EuCNC & 6G Summit 2025
DESCRIPTION:What motivates small and medium-sized enterprises to join the NetworldEurope SME Working Group? Collaboration\, visibility\, and the opportunity to shape Europe’s communication networks together. \nAt EuCNC & 6G Summit 2025\, the SME Working Group was present through project booths and demos\, as well as a dedicated session that featured success stories from members and a high-level panel on SME-driven scale-up and impact. \nIn a new video\, several SME WG members share both their project highlights and what they gain from being part of this community: \n\nGigasys Solutions (Mir Ghoraishi) – advancing cybersecurity and 6G orchestration\, while highlighting the value of collaborations within the SME WG.\nUbiwhere (Ana Pereira) – building smarter cities and leading EU projects\, with pride in being an active SME WG member and contributing to SNS calls and projects.\nIMST GmbH (Christos Oikonomopoulos-Zachos) – innovating antennas for integrated sensing and communication\, and appreciating the insight into other companies’ work as well as the chance to identify mutual goals and collaborations.\nRunEL (Israel Koffman) – achieving breakthroughs in centimeter-level positioning and grateful for the opportunity to join EuCNC.\n\nTheir experiences underline how the NetworldEurope SME WG provides a platform for networking\, joint opportunities\, and stronger impact across Europe. \nWatch the video and subscribe to our YouTube channel!
URL:https://www.networldeurope.eu/event/smes-in-the-spotlight-at-eucnc-6g-summit-2025/
CATEGORIES:sector events
END:VEVENT
END:VCALENDAR