BEGIN:VCALENDAR
VERSION:2.0
PRODID:-//NetworldEurope ETP - ECPv6.15.20//NONSGML v1.0//EN
CALSCALE:GREGORIAN
METHOD:PUBLISH
X-WR-CALNAME:NetworldEurope ETP
X-ORIGINAL-URL:https://www.networldeurope.eu
X-WR-CALDESC:Events for NetworldEurope ETP
REFRESH-INTERVAL;VALUE=DURATION:PT1H
X-Robots-Tag:noindex
X-PUBLISHED-TTL:PT1H
BEGIN:VTIMEZONE
TZID:Europe/Berlin
BEGIN:DAYLIGHT
TZOFFSETFROM:+0100
TZOFFSETTO:+0200
TZNAME:CEST
DTSTART:20230326T010000
END:DAYLIGHT
BEGIN:STANDARD
TZOFFSETFROM:+0200
TZOFFSETTO:+0100
TZNAME:CET
DTSTART:20231029T010000
END:STANDARD
BEGIN:DAYLIGHT
TZOFFSETFROM:+0100
TZOFFSETTO:+0200
TZNAME:CEST
DTSTART:20240331T010000
END:DAYLIGHT
BEGIN:STANDARD
TZOFFSETFROM:+0200
TZOFFSETTO:+0100
TZNAME:CET
DTSTART:20241027T010000
END:STANDARD
BEGIN:DAYLIGHT
TZOFFSETFROM:+0100
TZOFFSETTO:+0200
TZNAME:CEST
DTSTART:20250330T010000
END:DAYLIGHT
BEGIN:STANDARD
TZOFFSETFROM:+0200
TZOFFSETTO:+0100
TZNAME:CET
DTSTART:20251026T010000
END:STANDARD
END:VTIMEZONE
BEGIN:VEVENT
DTSTART;TZID=Europe/Berlin:20241106T090000
DTEND;TZID=Europe/Berlin:20241106T160000
DTSTAMP:20260421T115649
CREATED:20250403T095048Z
LAST-MODIFIED:20250403T095113Z
UID:5334-1730883600-1730908800@www.networldeurope.eu
SUMMARY:International Workshop on System Architectures of Future Core Networks\, 6 November 2024
DESCRIPTION:A full day International Workshop on System Architectures of Future Core Networks was organized between NetworldEurope and  Deutsche Telekom  in Berlin on 6th of November 2024.  \nThe mobile core network has evolved across multiple generations. Notwithstanding while there are lots of research and discussion on the radio access network evolution\, the attention of the community is much less oriented to the vision\, value proposition\, and architecture of the future core network. This workshop aimed to create a forum for exchange of information and ideas specifically on the core network\, the expected system evolution including cloud and security/trust management. This is the proper time to reflect\, before the subject becomes mainstream in the standardization fora. The workshop discussed what features and capabilities are needed and its future standardization path (and not necessarily only 3GPP). A key objective is to ultimately contribute to the alignment  on the stakeholder view on future core networks and provide indications for promising innovation paths. \nThe workshop also needed to address cloud related issues in conjunction with security/trust management and sustainability\, given the ongoing virtualization trends in the industry. \nThe interactive workshop brought together some 25 international experts from Operators\, Vendors\, Hyperscalers\, and Academia to discuss their different views on the subject matter. The workshop report can be found here
URL:https://www.networldeurope.eu/event/international-workshop-on-system-architectures-of-future-core-networks-6-november-2024-2/
CATEGORIES:sector events
END:VEVENT
END:VCALENDAR